BEGIN:VCALENDAR
VERSION:2.0
PRODID:-//Tukios.com/
BEGIN:VEVENT
UID:ddd77fbe-8662-4123-8cec-0d1016a6286d@www.billowfuneralhomes.com
DTSTAMP:20260422T004953Z
DTSTART:20260427T200000Z
DTEND:20260427T220000Z
SUMMARY:Visitation
DESCRIPTION:
URL:https://www.billowfuneralhomes.com/obituaries/diane-jeanne-nelson
LOCATION:Billow FAIRLAWN Chapel 85 North Miller Road  Akron OH 44333
GEO:41.1303725;-81.6091586
END:VEVENT
END:VCALENDAR