BEGIN:VCALENDAR
VERSION:2.0
PRODID:-//Tukios.com/
BEGIN:VEVENT
UID:ac982302-68ff-425b-9103-27221c1e918f@www.billowfuneralhomes.com
DTSTAMP:20260422T005048Z
DTSTART:20260427T220000Z
DTEND:20260427T230000Z
SUMMARY:Memorial Service - PRIVATE
DESCRIPTION:
URL:https://www.billowfuneralhomes.com/obituaries/diane-jeanne-nelson
LOCATION: 85 N Miller Rd  Akron OH 44333
GEO:41.1303725;-81.6091586
END:VEVENT
END:VCALENDAR