BEGIN:VCALENDAR
VERSION:2.0
PRODID:-//Tukios.com/
BEGIN:VEVENT
UID:cc3e6fdd-a39c-40c2-89b6-edb8e45a3e21@www.billowfuneralhomes.com
DTSTAMP:20260420T191844Z
DTSTART:20260425T153000Z
DTEND:20260425T170000Z
SUMMARY:Memorial Mass
DESCRIPTION:
URL:https://www.billowfuneralhomes.com/obituaries/frank-d-rausch
LOCATION:Most Holy Name of Jesus Catholic Church 1700 Harpster Street  
	Pittsburgh PA 15212
GEO:40.4647715;-79.9838766
END:VEVENT
END:VCALENDAR