BEGIN:VCALENDAR
VERSION:2.0
PRODID:-//Tukios.com/
BEGIN:VEVENT
UID:ba816dea-a34b-431c-bb3b-85697c6a60ce@www.billowfuneralhomes.com
DTSTAMP:20260426T001253Z
DTSTART:20260426T150000Z
DTEND:20260426T160000Z
SUMMARY:Prayer Service
DESCRIPTION:
URL:https://www.billowfuneralhomes.com/obituaries/gopala-medapuram
LOCATION:Billow FAIRLAWN Chapel 85 North Miller Road  Akron OH 44333
GEO:41.1303725;-81.6091586
END:VEVENT
END:VCALENDAR