BEGIN:VCALENDAR
VERSION:2.0
PRODID:-//Tukios.com/
BEGIN:VEVENT
UID:ddf06f44-053a-47d6-9e93-81555c0ef834@www.billowfuneralhomes.com
DTSTAMP:20260426T041929Z
DTSTART:20260507T220000Z
DTEND:20260507T230000Z
SUMMARY:Memorial Service - PRIVATE
DESCRIPTION:
URL:https://www.billowfuneralhomes.com/obituaries/jeffery-nelson
LOCATION: 85 North Miller Road  Akron OH 44333
GEO:41.1303725;-81.6091586
END:VEVENT
END:VCALENDAR