BEGIN:VCALENDAR
VERSION:2.0
PRODID:-//Tukios.com/
BEGIN:VEVENT
UID:e18165cb-0c46-43a6-b2b3-98c665209d57@www.billowfuneralhomes.com
DTSTAMP:20260426T042109Z
DTSTART:20260507T200000Z
DTEND:20260507T220000Z
SUMMARY:Visitation
DESCRIPTION:
URL:https://www.billowfuneralhomes.com/obituaries/jeffery-nelson
LOCATION:Billow FAIRLAWN Chapel 85 North Miller Road  Akron OH 44333
GEO:41.1303725;-81.6091586
END:VEVENT
END:VCALENDAR